BEGIN:VCALENDAR
VERSION:2.0
PRODID:SchoolNow
CALSCALE:GREGORIAN
BEGIN:VEVENT
UID:0e574f7a-37c6-11ef-bd7b-0affea4aed0f
DTSTAMP:20241023T195545Z
SUMMARY:GBB: Arbor @ Kolmar
URL;VALUE=URI:https://www.arbor145.org/calendar/6192604/gbb-arbor-vs-kolmar
DTSTART;VALUE=DATE:20241030
DTEND;VALUE=DATE:20241031
END:VEVENT
END:VCALENDAR
