BEGIN:VCALENDAR
VERSION:2.0
PRODID:SchoolNow
CALSCALE:GREGORIAN
BEGIN:VEVENT
UID:24ac091e-37c6-11ef-ae86-0a58a9feac02
DTSTAMP:20240701T162243Z
SUMMARY:Election Day - School Closed
URL;VALUE=URI:https://www.arbor145.org/calendar/6192605/election-day-school
 -closed
DTSTART;VALUE=DATE:20241105
DTEND;VALUE=DATE:20241106
END:VEVENT
END:VCALENDAR
