BEGIN:VCALENDAR
VERSION:2.0
PRODID:SchoolNow
CALSCALE:GREGORIAN
BEGIN:VEVENT
UID:4c1a9d62-37c6-11ef-a0e3-0a58a9feac02
DTSTAMP:20240701T162349Z
SUMMARY:GBB: Arbor @ Hamlin
URL;VALUE=URI:https://www.arbor145.org/calendar/6192606/gbb-arbor-hamlin
DTSTART;VALUE=DATE:20241106
DTEND;VALUE=DATE:20241107
END:VEVENT
END:VCALENDAR
