BEGIN:VCALENDAR
VERSION:2.0
PRODID:SchoolNow
CALSCALE:GREGORIAN
BEGIN:VEVENT
UID:57aabcb6-37c6-11ef-b8d2-0a58a9feac02
DTSTAMP:20241030T170611Z
SUMMARY:GBB: Arbor vs Hille at Oak Forest High School
URL;VALUE=URI:https://www.arbor145.org/calendar/6192607/gbb-arbor-vs-hille
DTSTART;VALUE=DATE:20241107
DTEND;VALUE=DATE:20241108
END:VEVENT
END:VCALENDAR
