BEGIN:VCALENDAR
VERSION:2.0
PRODID:SchoolNow
CALSCALE:GREGORIAN
BEGIN:VEVENT
UID:46081456-37c9-11ef-9ccd-0a58a9feac02
DTSTAMP:20240701T164507Z
SUMMARY:GBB: Arbor vs Central Park
URL;VALUE=URI:https://www.arbor145.org/calendar/6192609/gbb-arbor-vs-centra
 l-park
DTSTART;VALUE=DATE:20241112
DTEND;VALUE=DATE:20241113
END:VEVENT
END:VCALENDAR
