BEGIN:VCALENDAR
VERSION:2.0
PRODID:SchoolNow
CALSCALE:GREGORIAN
BEGIN:VEVENT
UID:574ed5e2-37c9-11ef-b058-0a58a9feac02
DTSTAMP:20240701T164536Z
SUMMARY:GBB: Arbor vs Kolmar
URL;VALUE=URI:https://www.arbor145.org/calendar/6193297/gbb-arbor-vs-kolmar
DTSTART;VALUE=DATE:20241114
DTEND;VALUE=DATE:20241115
END:VEVENT
END:VCALENDAR
