BEGIN:VCALENDAR
VERSION:2.0
PRODID:SchoolNow
CALSCALE:GREGORIAN
BEGIN:VEVENT
UID:85287f0e-37c9-11ef-b80b-0a58a9feac02
DTSTAMP:20240701T164653Z
SUMMARY:Student Senate @ Prairie
URL;VALUE=URI:https://www.arbor145.org/calendar/6193298/student-senate-prai
 rie
DTSTART;VALUE=DATE:20241114
DTEND;VALUE=DATE:20241115
END:VEVENT
END:VCALENDAR
