BEGIN:VCALENDAR
VERSION:2.0
PRODID:SchoolNow
CALSCALE:GREGORIAN
BEGIN:VEVENT
UID:b589e02a-37c9-11ef-bf7b-02bafbb4e5ab
DTSTAMP:20240701T164952Z
SUMMARY:Trimester I Ends
URL;VALUE=URI:https://www.arbor145.org/calendar/6193299/trimester-1-ends
DTSTART;VALUE=DATE:20241115
DTEND;VALUE=DATE:20241116
END:VEVENT
END:VCALENDAR
