BEGIN:VCALENDAR
VERSION:2.0
PRODID:SchoolNow
CALSCALE:GREGORIAN
BEGIN:VEVENT
UID:e65fb76a-37c9-11ef-a8d4-0a58a9feac02
DTSTAMP:20240701T164936Z
SUMMARY:Trimester II Begins
URL;VALUE=URI:https://www.arbor145.org/calendar/6193300/trimester-ii-begins
DTSTART;VALUE=DATE:20241118
DTEND;VALUE=DATE:20241119
END:VEVENT
END:VCALENDAR
