BEGIN:VCALENDAR
VERSION:2.0
PRODID:SchoolNow
CALSCALE:GREGORIAN
BEGIN:VEVENT
UID:0bc47fb8-37ca-11ef-b4a9-0a58a9feac02
DTSTAMP:20240701T165039Z
SUMMARY:GBB: Arbor @ Prairie
URL;VALUE=URI:https://www.arbor145.org/calendar/6193301/gbb-arbor-prairie
DTSTART;VALUE=DATE:20241118
DTEND;VALUE=DATE:20241119
END:VEVENT
END:VCALENDAR
