BEGIN:VCALENDAR
VERSION:2.0
PRODID:SchoolNow
CALSCALE:GREGORIAN
BEGIN:VEVENT
UID:17c5f922-37ca-11ef-85b5-0a58a9feac02
DTSTAMP:20240701T165059Z
SUMMARY:GBB: Arbor @ Hille
URL;VALUE=URI:https://www.arbor145.org/calendar/6193302/gbb-arbor-hille
DTSTART;VALUE=DATE:20241119
DTEND;VALUE=DATE:20241120
END:VEVENT
END:VCALENDAR
