BEGIN:VCALENDAR
VERSION:2.0
PRODID:SchoolNow
CALSCALE:GREGORIAN
BEGIN:VEVENT
UID:33a87a5c-37ca-11ef-8b13-0a58a9feac02
DTSTAMP:20240701T165146Z
SUMMARY:Trimester I Grades Due
URL;VALUE=URI:https://www.arbor145.org/calendar/6193303/trimester-i-grades-
 due
DTSTART;VALUE=DATE:20241120
DTEND;VALUE=DATE:20241121
END:VEVENT
END:VCALENDAR
