BEGIN:VCALENDAR
VERSION:2.0
PRODID:SchoolNow
CALSCALE:GREGORIAN
BEGIN:VEVENT
UID:4620c2ca-37ca-11ef-ad7a-0a58a9feac02
DTSTAMP:20240701T165217Z
SUMMARY:GBB Tournament Playoffs TBD
URL;VALUE=URI:https://www.arbor145.org/calendar/6193304/gbb-tournament-play
 offs-tbd
DTSTART;VALUE=DATE:20241121
DTEND;VALUE=DATE:20241122
END:VEVENT
END:VCALENDAR
