BEGIN:VCALENDAR
VERSION:2.0
PRODID:SchoolNow
CALSCALE:GREGORIAN
BEGIN:VEVENT
UID:5f475d86-37ca-11ef-93ed-02de16e5324b
DTSTAMP:20240701T165259Z
SUMMARY:Trimester I Report Cards Available in ALMA
URL;VALUE=URI:https://www.arbor145.org/calendar/6193305/trimester-i-report-
 cards-available-in-alma
DTSTART;VALUE=DATE:20241122
DTEND;VALUE=DATE:20241123
END:VEVENT
END:VCALENDAR
