BEGIN:VCALENDAR
VERSION:2.0
PRODID:SchoolNow
CALSCALE:GREGORIAN
BEGIN:VEVENT
UID:890cdd62-37ca-11ef-bf17-0a58a9feac02
DTSTAMP:20240701T165409Z
SUMMARY:Parent Teacher Conference
URL;VALUE=URI:https://www.arbor145.org/calendar/6193306/parent-teacher-conf
 erence
DTSTART:20241125T180000Z
DTEND:20241125T223000Z
END:VEVENT
END:VCALENDAR
