BEGIN:VCALENDAR
VERSION:2.0
PRODID:SchoolNow
CALSCALE:GREGORIAN
BEGIN:VEVENT
UID:9b5e5a40-37ca-11ef-a4f1-0a58a9feac02
DTSTAMP:20240701T165440Z
SUMMARY:Parent Teacher Conference
URL;VALUE=URI:https://www.arbor145.org/calendar/6193307/parent-teacher-conf
 erence
DTSTART:20241126T000000Z
DTEND:20241126T020000Z
END:VEVENT
END:VCALENDAR
