BEGIN:VCALENDAR
VERSION:2.0
PRODID:SchoolNow
CALSCALE:GREGORIAN
BEGIN:VEVENT
UID:af56fafc-37ca-11ef-9699-02de16e5324b
DTSTAMP:20240701T165513Z
SUMMARY:Parent Teacher Conference
URL;VALUE=URI:https://www.arbor145.org/calendar/6193308/parent-teacher-conf
 erence
DTSTART:20241126T140000Z
DTEND:20241126T190000Z
END:VEVENT
END:VCALENDAR
