BEGIN:VCALENDAR
VERSION:2.0
PRODID:SchoolNow
CALSCALE:GREGORIAN
BEGIN:VEVENT
UID:c566393e-37ca-11ef-addf-0a58a9feac02
DTSTAMP:20240701T165550Z
SUMMARY:Not In Attendance - School Closed
URL;VALUE=URI:https://www.arbor145.org/calendar/6193504/not-in-attendance-s
 chool-closed
DTSTART;VALUE=DATE:20241127
DTEND;VALUE=DATE:20241130
END:VEVENT
END:VCALENDAR
