BEGIN:VCALENDAR
VERSION:2.0
PRODID:SchoolNow
CALSCALE:GREGORIAN
BEGIN:VEVENT
UID:f72a4726-37ca-11ef-bbba-0affe900a1ff
DTSTAMP:20240701T165714Z
SUMMARY:Thanksgiving - School Closed
URL;VALUE=URI:https://www.arbor145.org/calendar/6194004/thanksgiving-school
 -closed
DTSTART;VALUE=DATE:20241128
DTEND;VALUE=DATE:20241129
END:VEVENT
END:VCALENDAR
