BEGIN:VCALENDAR
VERSION:2.0
PRODID:SchoolNow
CALSCALE:GREGORIAN
BEGIN:VEVENT
UID:2da48abe-37cb-11ef-b1d5-0a58a9feac02
DTSTAMP:20240701T165845Z
SUMMARY:GBB Tournament Playoffs TBD
URL;VALUE=URI:https://www.arbor145.org/calendar/6194157/gbb-tournament-play
 offs-tbd
DTSTART;VALUE=DATE:20241203
DTEND;VALUE=DATE:20241204
END:VEVENT
END:VCALENDAR
