BEGIN:VCALENDAR
VERSION:2.0
PRODID:SchoolNow
CALSCALE:GREGORIAN
BEGIN:VEVENT
UID:3bf0191c-37cb-11ef-9c7b-0efec49c6b19
DTSTAMP:20240701T165909Z
SUMMARY:GBB Tournament @ Wilkins
URL;VALUE=URI:https://www.arbor145.org/calendar/6194158/gbb-tournament-wilk
 ins
DTSTART;VALUE=DATE:20241205
DTEND;VALUE=DATE:20241206
END:VEVENT
END:VCALENDAR
