BEGIN:VCALENDAR
VERSION:2.0
PRODID:SchoolNow
CALSCALE:GREGORIAN
BEGIN:VEVENT
UID:51ecc076-37cb-11ef-9299-0a58a9feac02
DTSTAMP:20240701T165946Z
SUMMARY:GBB Tournament Championship @ Wilkins
URL;VALUE=URI:https://www.arbor145.org/calendar/6194159/gbb-tournament-cham
 pionship-wilkins
DTSTART;VALUE=DATE:20241210
DTEND;VALUE=DATE:20241211
END:VEVENT
END:VCALENDAR
