BEGIN:VCALENDAR
VERSION:2.0
PRODID:SchoolNow
CALSCALE:GREGORIAN
BEGIN:VEVENT
UID:2ceca736-37cc-11ef-be8b-0a58a9feac02
DTSTAMP:20240701T170553Z
SUMMARY:Girls All Star Basketball Game @ Finley
URL;VALUE=URI:https://www.arbor145.org/calendar/6194162/girls-all-star-bask
 etball-game-finley
DTSTART;VALUE=DATE:20241212
DTEND;VALUE=DATE:20241213
END:VEVENT
END:VCALENDAR
