BEGIN:VCALENDAR
VERSION:2.0
PRODID:SchoolNow
CALSCALE:GREGORIAN
BEGIN:VEVENT
UID:506c7626-37d8-11ef-9aaf-0a58a9feac02
DTSTAMP:20240701T183247Z
SUMMARY:APMS Dismissal 11:00am
URL;VALUE=URI:https://www.arbor145.org/calendar/6194189/apms-dismissal-11-0
 0am
DTSTART;VALUE=DATE:20241219
DTEND;VALUE=DATE:20241220
END:VEVENT
END:VCALENDAR
