BEGIN:VCALENDAR
VERSION:2.0
PRODID:SchoolNow
CALSCALE:GREGORIAN
BEGIN:VEVENT
UID:5ea89e7c-37d8-11ef-bd24-0a58a9feac02
DTSTAMP:20240701T183311Z
SUMMARY:SOS Dismissal 12:00pm
URL;VALUE=URI:https://www.arbor145.org/calendar/6194190/sos-dismissal-12-00
 pm
DTSTART;VALUE=DATE:20241219
DTEND;VALUE=DATE:20241220
END:VEVENT
END:VCALENDAR
