BEGIN:VCALENDAR
VERSION:2.0
PRODID:SchoolNow
CALSCALE:GREGORIAN
BEGIN:VEVENT
UID:6ecbbae6-37d8-11ef-8951-0a58a9feac02
DTSTAMP:20240701T183338Z
SUMMARY:AES Dismissal 12:30pm
URL;VALUE=URI:https://www.arbor145.org/calendar/6194191/aes-dismissal-12-30
 pm
DTSTART;VALUE=DATE:20241219
DTEND;VALUE=DATE:20241220
END:VEVENT
END:VCALENDAR
