BEGIN:VCALENDAR
VERSION:2.0
PRODID:SchoolNow
CALSCALE:GREGORIAN
BEGIN:VEVENT
UID:b369b004-37d8-11ef-8b6b-0affddf12909
DTSTAMP:20240701T183533Z
SUMMARY:Winter Break
URL;VALUE=URI:https://www.arbor145.org/calendar/6194192/winter-break
DTSTART;VALUE=DATE:20241220
DTEND;VALUE=DATE:20250104
END:VEVENT
END:VCALENDAR
