BEGIN:VCALENDAR
VERSION:2.0
PRODID:SchoolNow
CALSCALE:GREGORIAN
BEGIN:VEVENT
UID:c19a9fee-37d8-11ef-aea8-0affea4aed0f
DTSTAMP:20240701T183557Z
SUMMARY:School Resumes
URL;VALUE=URI:https://www.arbor145.org/calendar/6194193/school-resumes
DTSTART;VALUE=DATE:20250106
DTEND;VALUE=DATE:20250107
END:VEVENT
END:VCALENDAR
