BEGIN:VCALENDAR
VERSION:2.0
PRODID:SchoolNow
CALSCALE:GREGORIAN
BEGIN:VEVENT
UID:09fcd608-37d9-11ef-8746-0ef5fa5f179b
DTSTAMP:20240701T183758Z
SUMMARY:BBB: Arbor @ Central Park
URL;VALUE=URI:https://www.arbor145.org/calendar/6194194/bbb-arbor-central-p
 ark
DTSTART;VALUE=DATE:20250114
DTEND;VALUE=DATE:20250115
END:VEVENT
END:VCALENDAR
