BEGIN:VCALENDAR
VERSION:2.0
PRODID:SchoolNow
CALSCALE:GREGORIAN
BEGIN:VEVENT
UID:1de5f834-37d9-11ef-a475-0a58a9feac02
DTSTAMP:20240701T183832Z
SUMMARY:Mid Trimester II Grades Due
URL;VALUE=URI:https://www.arbor145.org/calendar/6194195/mid-trimester-ii-gr
 ades-due
DTSTART;VALUE=DATE:20250115
DTEND;VALUE=DATE:20250116
END:VEVENT
END:VCALENDAR
