BEGIN:VCALENDAR
VERSION:2.0
PRODID:SchoolNow
CALSCALE:GREGORIAN
BEGIN:VEVENT
UID:e84488ca-37d9-11ef-a4c9-0efded0f69c3
DTSTAMP:20240701T184411Z
SUMMARY:BBB: Arbor vs Hamlin
URL;VALUE=URI:https://www.arbor145.org/calendar/6194196/bbb-arbor-vs-hamlin
DTSTART;VALUE=DATE:20250116
DTEND;VALUE=DATE:20250117
END:VEVENT
END:VCALENDAR
