BEGIN:VCALENDAR
VERSION:2.0
PRODID:SchoolNow
CALSCALE:GREGORIAN
BEGIN:VEVENT
UID:5bc3092a-37da-11ef-9146-0efec49c6b19
DTSTAMP:20240701T184725Z
SUMMARY:Mid Trimester II Progress Reports Available In ALMA
URL;VALUE=URI:https://www.arbor145.org/calendar/6194197/mid-trimester-ii-pr
 ogress-reports-available-in-alma
DTSTART;VALUE=DATE:20250117
DTEND;VALUE=DATE:20250118
END:VEVENT
END:VCALENDAR
