BEGIN:VCALENDAR
VERSION:2.0
PRODID:SchoolNow
CALSCALE:GREGORIAN
BEGIN:VEVENT
UID:7e48d9d4-37da-11ef-9065-0a58a9feac02
DTSTAMP:20240701T184823Z
SUMMARY:Martin Luther King's Birthday - School Closed
URL;VALUE=URI:https://www.arbor145.org/calendar/6194198/martin-luther-kings
 -birthday-school-closed
DTSTART;VALUE=DATE:20250120
DTEND;VALUE=DATE:20250121
END:VEVENT
END:VCALENDAR
