BEGIN:VCALENDAR
VERSION:2.0
PRODID:SchoolNow
CALSCALE:GREGORIAN
BEGIN:VEVENT
UID:ec48c9bc-37da-11ef-abfb-0a58a9feac02
DTSTAMP:20240701T185127Z
SUMMARY:BBB: Arbor @ Independence
URL;VALUE=URI:https://www.arbor145.org/calendar/6194199/bbb-arbor-independe
 nce
DTSTART;VALUE=DATE:20250121
DTEND;VALUE=DATE:20250122
END:VEVENT
END:VCALENDAR
