BEGIN:VCALENDAR
VERSION:2.0
PRODID:SchoolNow
CALSCALE:GREGORIAN
BEGIN:VEVENT
UID:fc490eb2-37da-11ef-ade1-0affea4aed0f
DTSTAMP:20240701T185154Z
SUMMARY:BBB: Arbor @ Wilkins
URL;VALUE=URI:https://www.arbor145.org/calendar/6194200/bbb-arbor-wilkins
DTSTART;VALUE=DATE:20250123
DTEND;VALUE=DATE:20250124
END:VEVENT
END:VCALENDAR
