BEGIN:VCALENDAR
VERSION:2.0
PRODID:SchoolNow
CALSCALE:GREGORIAN
BEGIN:VEVENT
UID:0c53683e-37db-11ef-b3e2-0a58a9feac02
DTSTAMP:20240701T185221Z
SUMMARY:BBB: Arbor vs Finley
URL;VALUE=URI:https://www.arbor145.org/calendar/6194201/bbb-arbor-vs-finley
DTSTART;VALUE=DATE:20250128
DTEND;VALUE=DATE:20250129
END:VEVENT
END:VCALENDAR
