BEGIN:VCALENDAR
VERSION:2.0
PRODID:SchoolNow
CALSCALE:GREGORIAN
BEGIN:VEVENT
UID:19c77320-37db-11ef-a5ce-0affe900a1ff
DTSTAMP:20240701T185244Z
SUMMARY:BBB: Arbor vs Worth
URL;VALUE=URI:https://www.arbor145.org/calendar/6194202/bbb-arbor-vs-worth
DTSTART;VALUE=DATE:20250130
DTEND;VALUE=DATE:20250131
END:VEVENT
END:VCALENDAR
