BEGIN:VCALENDAR
VERSION:2.0
PRODID:SchoolNow
CALSCALE:GREGORIAN
BEGIN:VEVENT
UID:599b28f4-37de-11ef-9aea-0affd1b2c97d
DTSTAMP:20240701T191559Z
SUMMARY:BBB: Arbor @ Kolmar
URL;VALUE=URI:https://www.arbor145.org/calendar/6194235/bbb-arbor-kolmar
DTSTART;VALUE=DATE:20250204
DTEND;VALUE=DATE:20250205
END:VEVENT
END:VCALENDAR
