BEGIN:VCALENDAR
VERSION:2.0
PRODID:SchoolNow
CALSCALE:GREGORIAN
BEGIN:VEVENT
UID:6720292a-37de-11ef-bcef-0affd0d50bef
DTSTAMP:20240701T195522Z
SUMMARY:BBB: Arbor @ Hamlin
URL;VALUE=URI:https://www.arbor145.org/calendar/6194236/bbb-arbor-hamlin
DTSTART;VALUE=DATE:20250206
DTEND;VALUE=DATE:20250207
END:VEVENT
END:VCALENDAR
