BEGIN:VCALENDAR
VERSION:2.0
PRODID:SchoolNow
CALSCALE:GREGORIAN
BEGIN:VEVENT
UID:856a3eb6-37de-11ef-b301-0a58a9feac02
DTSTAMP:20240701T191713Z
SUMMARY:Cheerfest @ Jack Hille Junior High
URL;VALUE=URI:https://www.arbor145.org/calendar/6194237/cheerfest-jack-hill
 e-junior-high
DTSTART;VALUE=DATE:20250211
DTEND;VALUE=DATE:20250212
END:VEVENT
END:VCALENDAR
