BEGIN:VCALENDAR
VERSION:2.0
PRODID:SchoolNow
CALSCALE:GREGORIAN
BEGIN:VEVENT
UID:95b582f8-37de-11ef-885e-0a58a9feac02
DTSTAMP:20240701T191740Z
SUMMARY:BBB: Arbor vs Hille
URL;VALUE=URI:https://www.arbor145.org/calendar/6194238/bbb-arbor-vs-hille
DTSTART;VALUE=DATE:20250212
DTEND;VALUE=DATE:20250213
END:VEVENT
END:VCALENDAR
