BEGIN:VCALENDAR
VERSION:2.0
PRODID:SchoolNow
CALSCALE:GREGORIAN
BEGIN:VEVENT
UID:c467dbe6-37de-11ef-bcec-021d6ea3ecb1
DTSTAMP:20240701T191858Z
SUMMARY:President's Day - School Closed
URL;VALUE=URI:https://www.arbor145.org/calendar/6194240/presidents-day-scho
 ol-closed
DTSTART;VALUE=DATE:20250217
DTEND;VALUE=DATE:20250218
END:VEVENT
END:VCALENDAR
