BEGIN:VCALENDAR
VERSION:2.0
PRODID:SchoolNow
CALSCALE:GREGORIAN
BEGIN:VEVENT
UID:d6251f7e-37de-11ef-891a-0a58a9feac02
DTSTAMP:20240701T191928Z
SUMMARY:BBB: Arbor vs Central Park
URL;VALUE=URI:https://www.arbor145.org/calendar/6194241/bbb-arbor-vs-centra
 l-park
DTSTART;VALUE=DATE:20250218
DTEND;VALUE=DATE:20250219
END:VEVENT
END:VCALENDAR
