BEGIN:VCALENDAR
VERSION:2.0
PRODID:SchoolNow
CALSCALE:GREGORIAN
BEGIN:VEVENT
UID:e2712840-37de-11ef-81c8-0affe900a1ff
DTSTAMP:20240701T191949Z
SUMMARY:BBB: Arbor vs Kolmar
URL;VALUE=URI:https://www.arbor145.org/calendar/6194242/bbb-arbor-vs-kolmar
DTSTART;VALUE=DATE:20250220
DTEND;VALUE=DATE:20250221
END:VEVENT
END:VCALENDAR
