BEGIN:VCALENDAR
VERSION:2.0
PRODID:SchoolNow
CALSCALE:GREGORIAN
BEGIN:VEVENT
UID:efcebb60-37de-11ef-9cae-02bafbb4e5ab
DTSTAMP:20240701T192011Z
SUMMARY:BBB: Arbor @ Hille
URL;VALUE=URI:https://www.arbor145.org/calendar/6194243/bbb-arbor-hille
DTSTART;VALUE=DATE:20250224
DTEND;VALUE=DATE:20250225
END:VEVENT
END:VCALENDAR
