BEGIN:VCALENDAR
VERSION:2.0
PRODID:SchoolNow
CALSCALE:GREGORIAN
BEGIN:VEVENT
UID:0407bf28-37df-11ef-8bc7-0e3f006457b7
DTSTAMP:20240701T192045Z
SUMMARY:BBB Tournament Playoff TBD
URL;VALUE=URI:https://www.arbor145.org/calendar/6194244/bbb-tournament-play
 off-tbd
DTSTART;VALUE=DATE:20250225
DTEND;VALUE=DATE:20250226
END:VEVENT
END:VCALENDAR
