BEGIN:VCALENDAR
VERSION:2.0
PRODID:SchoolNow
CALSCALE:GREGORIAN
BEGIN:VEVENT
UID:210fc96c-37df-11ef-9356-0a58a9feac02
DTSTAMP:20240701T192134Z
SUMMARY:All Star Band Rehersal @ Arbor Park
URL;VALUE=URI:https://www.arbor145.org/calendar/6194245/all-star-band-reher
 sal-arbor-park
DTSTART;VALUE=DATE:20250225
DTEND;VALUE=DATE:20250226
END:VEVENT
END:VCALENDAR
