BEGIN:VCALENDAR
VERSION:2.0
PRODID:SchoolNow
CALSCALE:GREGORIAN
BEGIN:VEVENT
UID:41627de0-37df-11ef-a8fd-0a58a9feac02
DTSTAMP:20240701T192228Z
SUMMARY:BBB Tournament Playoffs TBD
URL;VALUE=URI:https://www.arbor145.org/calendar/6194246/bbb-tournament-play
 offs-tbd
DTSTART;VALUE=DATE:20250227
DTEND;VALUE=DATE:20250228
END:VEVENT
END:VCALENDAR
