BEGIN:VCALENDAR
VERSION:2.0
PRODID:SchoolNow
CALSCALE:GREGORIAN
BEGIN:VEVENT
UID:4f001b60-37df-11ef-b0ba-0a58a9feac02
DTSTAMP:20240701T192251Z
SUMMARY:Trimester II Ends
URL;VALUE=URI:https://www.arbor145.org/calendar/6194247/trimester-ii-ends
DTSTART;VALUE=DATE:20250228
DTEND;VALUE=DATE:20250301
END:VEVENT
END:VCALENDAR
