BEGIN:VCALENDAR
VERSION:2.0
PRODID:SchoolNow
CALSCALE:GREGORIAN
BEGIN:VEVENT
UID:670f511c-37df-11ef-8d43-0a58a9feac02
DTSTAMP:20240701T192331Z
SUMMARY:Casimir Pulaski Day - School Closed
URL;VALUE=URI:https://www.arbor145.org/calendar/6194248/casimir-pulaski-day
 -school-closed
DTSTART;VALUE=DATE:20250303
DTEND;VALUE=DATE:20250304
END:VEVENT
END:VCALENDAR
